BEGIN:VCALENDAR
VERSION:2.0
PRODID:-//https://www.lamortella.org///NONSGML kigkonsult.se iCalcreator 2.10.15//
METHOD:PUBLISH
BEGIN:VEVENT
UID:20260420T103102UTC-1400n8aATf@https://www.lamortella.org/
DTSTAMP:20260420T103102Z
DESCRIPTION:La Mortella: Incontri Musicali - Quintetto Aeolus - Quintetto d
 i fiati Musiche diSabato: Mozart\, Danzi\, Ligeti\, BarberDomenica: Mozart
 \, Ligeti\, Ibert\, Danzi https://www.lamortella.org/en/incontri-musicali-
 stagione-primavera-estate-2016/event/217-quintetto-aeolus
DTSTART:20160416T150000Z
DTEND:20160416T160000Z
LOCATION:Sala Recite (Giardini la Mortella\, Via Francesco Calise\, 45\, 80
 077 Ischia NA\, Italia)
SUMMARY:Quintetto Aeolus
URL:https://www.lamortella.org/en/incontri-musicali-stagione-primavera-esta
 te-2016/event/217-quintetto-aeolus
END:VEVENT
END:VCALENDAR
