BEGIN:VCALENDAR
VERSION:2.0
PRODID:-//https://www.lamortella.org///NONSGML kigkonsult.se iCalcreator 2.10.15//
METHOD:PUBLISH
BEGIN:VEVENT
UID:20260420T090725UTC-6235MDwtxS@https://www.lamortella.org/
DTSTAMP:20260420T090725Z
DESCRIPTION:La Mortella: Incontri Musicali - Duo G. Gibboni - F. Silvestro 
 - Violino e pianoforte Musiche diSabato: Ysaye\, Paganini\, Sarasate\, Kor
 sakovDomenica: Bach\, Paganini\, Sarasate\, Korsakov https://www.lamortell
 a.org/en/incontri-musicali-stagione-primavera-estate-2016/event/221-duo-g-
 gibboni-f-silvestro
DTSTART:20160501T150000Z
DTEND:20160501T160000Z
LOCATION:Sala Recite (Giardini la Mortella\, Via Francesco Calise\, 45\, 80
 077 Ischia NA\, Italia)
SUMMARY:Duo G. Gibboni - F. Silvestro
URL:https://www.lamortella.org/en/incontri-musicali-stagione-primavera-esta
 te-2016/event/221-duo-g-gibboni-f-silvestro
END:VEVENT
END:VCALENDAR
