BEGIN:VCALENDAR
VERSION:2.0
PRODID:-//https://www.lamortella.org///NONSGML kigkonsult.se iCalcreator 2.10.15//
METHOD:PUBLISH
BEGIN:VEVENT
UID:20260423T143630UTC-9109efXgLb@https://www.lamortella.org/
DTSTAMP:20260423T143630Z
DESCRIPTION:\nProgramma 28 giugno - ore 17:00\nMusiche di Scarlatti\, Ramea
 u\, Schumann\, Schubert\nAnaïs Cassiers - Pianoforte\n&nbsp\;\nModalità di
  prenotazione e tariffe\n&nbsp\;\n https://www.lamortella.org/en/music/eve
 nts-calendar/event/1201-anais-cassiers
DTSTART:20250628T150000Z
DTEND:20250628T161500Z
LOCATION:Sala Recite (Giardini la Mortella\, Via Francesco Calise\, 45\, 80
 077 Ischia NA\, Italia)
SUMMARY:Anaïs Cassiers
URL:https://www.lamortella.org/en/music/events-calendar/event/1201-anais-ca
 ssiers
END:VEVENT
END:VCALENDAR
