BEGIN:VCALENDAR
VERSION:2.0
PRODID:-//https://www.lamortella.org///NONSGML kigkonsult.se iCalcreator 2.10.15//
METHOD:PUBLISH
BEGIN:VEVENT
UID:20260420T090644UTC-2776inUh0A@https://www.lamortella.org/
DTSTAMP:20260420T090644Z
DESCRIPTION:Direttore - Marco Boido Solista - Marie-Denise Heinen O. Respig
 hi - Arie di Corte W. Walton - Two Pieces from Henry V A. Vivaldi - Le Qua
 ttro Stagioni - Estate E. Elgar - Serenata per archi in mi minore\, Op 20 
 G. Rossini - Sonata n.1 per archi in do maggiore https://www.lamortella.or
 g/en/teatro-greco-concerti-di-orchestre-sinfoniche-giovanili-2008/event/30
 3-korrespondenzen-baden-baden
DTSTART:20080710T190000Z
DTEND:20080710T200000Z
LOCATION:Teatro Greco (Giardini la Mortella\, Via Francesco Calise\, 45\, 8
 0077 Ischia NA\, Italia)
SUMMARY:Korrespondenzen\, Baden Baden
URL:https://www.lamortella.org/en/teatro-greco-concerti-di-orchestre-sinfon
 iche-giovanili-2008/event/303-korrespondenzen-baden-baden
END:VEVENT
END:VCALENDAR
