BEGIN:VCALENDAR
VERSION:2.0
PRODID:-//https://www.lamortella.org///NONSGML kigkonsult.se iCalcreator 2.10.15//
METHOD:PUBLISH
BEGIN:VEVENT
UID:20260420T090604UTC-8773vvf5c2@https://www.lamortella.org/
DTSTAMP:20260420T090604Z
DESCRIPTION:Direttore - Simon Over Mezzosoprano - Lotte Betts-Dean  L. van 
 Beethoven - Sinfonia n. 2 in re maggiore\, op. 36 Arie per mezzosoprano e 
 intermezzi orchestrali di O. Respighi\, W. A. Mozart\, G. Rossini e V. Bel
 lini https://www.lamortella.org/en/teatro-greco-concerti-di-orchestre-sinf
 oniche-giovanili-2018/event/785-southbank-sinfonia
DTSTART:20180719T190000Z
DTEND:20180719T200000Z
LOCATION:Teatro Greco (Giardini la Mortella\, Via Francesco Calise\, 45\, 8
 0077 Ischia NA\, Italia)
SUMMARY:Southbank Sinfonia
URL:https://www.lamortella.org/en/teatro-greco-concerti-di-orchestre-sinfon
 iche-giovanili-2018/event/785-southbank-sinfonia
END:VEVENT
END:VCALENDAR
