BEGIN:VCALENDAR
VERSION:2.0
PRODID:-//https://www.lamortella.org///NONSGML kigkonsult.se iCalcreator 2.10.15//
METHOD:PUBLISH
BEGIN:VEVENT
UID:20260424T142518UTC-7830UP6hXa@https://www.lamortella.org/
DTSTAMP:20260424T142518Z
DESCRIPTION:Musiche di Brahms\, Schumann https://www.lamortella.org/incontr
 i-musicali-stagione-autunnale-2014/evento/678-marco-mantovani
DTSTART:20141018T150000Z
DTEND:20141018T160000Z
LOCATION:Sala Recite (Giardini la Mortella\, Via Francesco Calise\, 45\, 80
 077 Ischia NA\, Italia)
SUMMARY:Marco Mantovani
URL:https://www.lamortella.org/incontri-musicali-stagione-autunnale-2014/ev
 ento/678-marco-mantovani
END:VEVENT
END:VCALENDAR
