BEGIN:VCALENDAR
VERSION:2.0
PRODID:-//https://www.lamortella.org///NONSGML kigkonsult.se iCalcreator 2.10.15//
METHOD:PUBLISH
BEGIN:VEVENT
UID:20260420T115801UTC-70200pht8u@https://www.lamortella.org/
DTSTAMP:20260420T115801Z
DESCRIPTION:Stagione autunnale 2016 degli Incontri Musicali alla Mortella. 
 &nbsp\;Pianoforte: Oxana Shevchenko https://www.lamortella.org/incontri-mu
 sicali-stagione-autunnale-2016/evento/120-oxana-shevchenko
DTSTART:20170916T150000Z
DTEND:20170916T180000Z
LOCATION:Sala Recite (Giardini la Mortella\, Via Francesco Calise\, 45\, 80
 077 Ischia NA\, Italia)
SUMMARY:Oxana Shevchenko
URL:https://www.lamortella.org/incontri-musicali-stagione-autunnale-2016/ev
 ento/120-oxana-shevchenko
END:VEVENT
END:VCALENDAR
