BEGIN:VCALENDAR
VERSION:2.0
PRODID:-//https://www.lamortella.org///NONSGML kigkonsult.se iCalcreator 2.10.15//
METHOD:PUBLISH
BEGIN:VEVENT
UID:20260420T090510UTC-7283RGIL9t@https://www.lamortella.org/
DTSTAMP:20260420T090510Z
DESCRIPTION:Musiche di Schumann\, Liszt\, Brahms https://www.lamortella.org
 /incontri-musicali-stagione-autunnale-2016/evento/873-oxana-shevchenko
DTSTART:20160918T150000Z
DTEND:20160918T160000Z
LOCATION:Sala Recite (Giardini la Mortella\, Via Francesco Calise\, 45\, 80
 077 Ischia NA\, Italia)
SUMMARY:Oxana Shevchenko
URL:https://www.lamortella.org/incontri-musicali-stagione-autunnale-2016/ev
 ento/873-oxana-shevchenko
END:VEVENT
END:VCALENDAR
