BEGIN:VCALENDAR
VERSION:2.0
PRODID:-//https://www.lamortella.org///NONSGML kigkonsult.se iCalcreator 2.10.15//
METHOD:PUBLISH
BEGIN:VEVENT
UID:20260422T110357UTC-3773IUVdw8@https://www.lamortella.org/
DTSTAMP:20260422T110357Z
DESCRIPTION:musiche di Franck\, Britten https://www.lamortella.org/incontri
 -musicali-stagione-primavera-estate-2013/evento/255-duo-kouznetsova-arcigl
 ione
DTSTART:20080330T180000Z
DTEND:20080330T190000Z
LOCATION:Sala Recite (Giardini la Mortella\, Via Francesco Calise\, 45\, 80
 077 Ischia NA\, Italia)
SUMMARY:Duo Kouznetsova - Arciglione
URL:https://www.lamortella.org/incontri-musicali-stagione-primavera-estate-
 2013/evento/255-duo-kouznetsova-arciglione
END:VEVENT
END:VCALENDAR
