BEGIN:VCALENDAR
VERSION:2.0
PRODID:-//https://www.lamortella.org///NONSGML kigkonsult.se iCalcreator 2.10.15//
METHOD:PUBLISH
BEGIN:VEVENT
UID:20260420T090644UTC-2875UwB3uu@https://www.lamortella.org/
DTSTAMP:20260420T090644Z
DESCRIPTION:Direttore - Lorenzo Castriota Skanderbeg G.F. Haendel - Musica 
 per i reali fuochi d’artificio P. Mascagni - Guglielmo Ratcliff - Intermez
 zo B. Bartok - 2 suites dal “For Children” A. Di Iorio - Mattino d’estate\
 , Rapsodia sinfonica M. Ravel - Bolero https://www.lamortella.org/incontri
 -musicali-stagione-primavera-estate-2013/evento/411-orchestra-giovanile-de
 l-conservatorio-l-perosi-di-campobasso
DTSTART:20100729T190000Z
DTEND:20100729T200000Z
LOCATION:Teatro Greco (Giardini la Mortella\, Via Francesco Calise\, 45\, 8
 0077 Ischia NA\, Italia)
SUMMARY:Orchestra Giovanile del Conservatorio “L. Perosi” di Campobasso
URL:https://www.lamortella.org/incontri-musicali-stagione-primavera-estate-
 2013/evento/411-orchestra-giovanile-del-conservatorio-l-perosi-di-campobas
 so
END:VEVENT
END:VCALENDAR
