BEGIN:VCALENDAR
VERSION:2.0
PRODID:-//https://www.lamortella.org///NONSGML kigkonsult.se iCalcreator 2.10.15//
METHOD:PUBLISH
BEGIN:VEVENT
UID:20260420T103137UTC-1845vJcjb9@https://www.lamortella.org/
DTSTAMP:20260420T103137Z
DESCRIPTION:Musiche di Koechlin\, Beethoven\, Part e Martinu https://www.la
 mortella.org/incontri-musicali-stagione-primavera-estate-2013/evento/438-d
 uo-caterino-sannino
DTSTART:20100606T143000Z
DTEND:20100606T153000Z
LOCATION:Sala Recite (Giardini la Mortella\, Via Francesco Calise\, 45\, 80
 077 Ischia NA\, Italia)
SUMMARY:Duo Caterino - Sannino
URL:https://www.lamortella.org/incontri-musicali-stagione-primavera-estate-
 2013/evento/438-duo-caterino-sannino
END:VEVENT
END:VCALENDAR
