BEGIN:VCALENDAR
VERSION:2.0
PRODID:-//https://www.lamortella.org///NONSGML kigkonsult.se iCalcreator 2.10.15//
METHOD:PUBLISH
BEGIN:VEVENT
UID:20260424T100610UTC-409799KUib@https://www.lamortella.org/
DTSTAMP:20260424T100610Z
DESCRIPTION:Musiche di Beethoven\, Messiaen\, Brahms https://www.lamortella
 .org/incontri-musicali-stagione-primavera-estate-2013/evento/584-duo-f-rav
 ier-s-monzo
DTSTART:20130413T150000Z
DTEND:20130413T160000Z
LOCATION:Sala Recite (Giardini la Mortella\, Via Francesco Calise\, 45\, 80
 077 Ischia NA\, Italia)
SUMMARY:Duo F. Ravier - S. Monzo
URL:https://www.lamortella.org/incontri-musicali-stagione-primavera-estate-
 2013/evento/584-duo-f-ravier-s-monzo
END:VEVENT
END:VCALENDAR
