BEGIN:VCALENDAR
VERSION:2.0
PRODID:-//https://www.lamortella.org///NONSGML kigkonsult.se iCalcreator 2.10.15//
METHOD:PUBLISH
BEGIN:VEVENT
UID:20260420T134106UTC-56153PR3vf@https://www.lamortella.org/
DTSTAMP:20260420T134106Z
DESCRIPTION:Programma 24 maggio - ore 17:00\nMusiche di&nbsp\;Bosmans\, Gál
 \, Walton\nDuo S. Bayens - D. Malignan - Violino e pianoforte\n&nbsp\; htt
 ps://www.lamortella.org/musica/calendario-eventi/evento/1242-duo-s-bayens-
 d-malignan
DTSTART:20260524T150000Z
DTEND:20260524T163000Z
LOCATION:Sala Recite (Giardini la Mortella\, Via Francesco Calise\, 45\, 80
 077 Ischia NA\, Italia)
SUMMARY:Duo S. Bayens - D. Malignan
URL:https://www.lamortella.org/musica/calendario-eventi/evento/1242-duo-s-b
 ayens-d-malignan
END:VEVENT
END:VCALENDAR
