BEGIN:VCALENDAR
VERSION:2.0
PRODID:-//https://www.lamortella.org///NONSGML kigkonsult.se iCalcreator 2.10.15//
METHOD:PUBLISH
BEGIN:VEVENT
UID:20260420T134252UTC-0101sdOeUB@https://www.lamortella.org/
DTSTAMP:20260420T134252Z
DESCRIPTION:Programma 14 giugno - ore 17:00\nMusiche di&nbsp\;D’Ambrosio\, 
 Wieniawski\, Boulanger\, Debussy\nDuo L.R. Mariotti - A. Enea - Violino e 
 pianoforte\n&nbsp\; https://www.lamortella.org/musica/calendario-eventi/ev
 ento/1247-duo-l-r-mariotti-a-enea
DTSTART:20260614T150000Z
DTEND:20260614T163000Z
LOCATION:Sala Recite (Giardini la Mortella\, Via Francesco Calise\, 45\, 80
 077 Ischia NA\, Italia)
SUMMARY:Duo L.R. Mariotti - A. Enea
URL:https://www.lamortella.org/musica/calendario-eventi/evento/1247-duo-l-r
 -mariotti-a-enea
END:VEVENT
END:VCALENDAR
