BEGIN:VCALENDAR
VERSION:2.0
PRODID:-//https://www.lamortella.org///NONSGML kigkonsult.se iCalcreator 2.10.15//
METHOD:PUBLISH
BEGIN:VEVENT
UID:20260420T230851UTC-9412Fg7Jsg@https://www.lamortella.org/
DTSTAMP:20260420T230851Z
DESCRIPTION:\nProgramma 1 giugno - ore 17:00\nMusiche di: W. Walton: Passac
 aglia per cello soloF. Mendelssohn: Variations Concertantes op. 17R. Schum
 ann: Fantasiestücke op. 73J. Brahms: Sonata per violoncello e pianoforte n
 o. 2\, op. 99 \nDuo L. Garcia Muramoto - P. Tirro - Violoncello pianoforte
 \n&nbsp\;\nModalità di prenotazione e tariffe\n&nbsp\;\n https://www.lamor
 tella.org/musica/eventi-in-archivio/evento/1142-duo-l-garcia-muramoto-p-ti
 rro
DTSTART:20240601T150000Z
DTEND:20240601T161500Z
LOCATION:Sala Recite (Giardini la Mortella\, Via Francesco Calise\, 45\, 80
 077 Ischia NA\, Italia)
SUMMARY:Duo L. Garcia Muramoto - P. Tirro
URL:https://www.lamortella.org/musica/eventi-in-archivio/evento/1142-duo-l-
 garcia-muramoto-p-tirro
END:VEVENT
END:VCALENDAR
