BEGIN:VCALENDAR
VERSION:2.0
PRODID:-//https://www.lamortella.org///NONSGML kigkonsult.se iCalcreator 2.10.15//
METHOD:PUBLISH
BEGIN:VEVENT
UID:20260423T183936UTC-6429JfgBLu@https://www.lamortella.org/
DTSTAMP:20260423T183936Z
DESCRIPTION:\nProgramma&nbsp\;31 agosto - ore 17:00\nJ. S. Bach: Partita n.
  2 BWV 1004 in re min.S. Prokofiev: Sonata in re magg. op. 115E. Ysaye: So
 nata 2 in la min. op. 27 “a Jacques Thibaud”\nJacobo Christensen - Violino
  solo\n&nbsp\;\nModalità di prenotazione e tariffe\n&nbsp\;\n https://www.
 lamortella.org/musica/eventi-in-archivio/evento/1158-jacobo-christensen
DTSTART:20240831T150000Z
DTEND:20240831T161500Z
LOCATION:Sala Recite (Giardini la Mortella\, Via Francesco Calise\, 45\, 80
 077 Ischia NA\, Italia)
SUMMARY:Jacobo Christensen
URL:https://www.lamortella.org/musica/eventi-in-archivio/evento/1158-jacobo
 -christensen
END:VEVENT
END:VCALENDAR
