BEGIN:VCALENDAR
VERSION:2.0
PRODID:-//https://www.lamortella.org///NONSGML kigkonsult.se iCalcreator 2.10.15//
METHOD:PUBLISH
BEGIN:VEVENT
UID:20260423T160208UTC-7034tdUBOd@https://www.lamortella.org/
DTSTAMP:20260423T160208Z
DESCRIPTION:\nProgramma&nbsp\;1 settembre - ore 17:00\nJ. S. Bach: Partita 
 n. 2 BWV 1004 in re min.S. Prokofiev: Sonata in re magg. op. 115E. Ysaye: 
 Sonata 2 in la min. op. 27 “a Jacques Thibaud”\nJacobo Christensen - Violi
 no solo\n&nbsp\;\nModalità di prenotazione e tariffe\n&nbsp\;\n https://ww
 w.lamortella.org/musica/eventi-in-archivio/evento/1159-jacobo-christensen
DTSTART:20240901T150000Z
DTEND:20240901T161500Z
LOCATION:Sala Recite (Giardini la Mortella\, Via Francesco Calise\, 45\, 80
 077 Ischia NA\, Italia)
SUMMARY:Jacobo Christensen
URL:https://www.lamortella.org/musica/eventi-in-archivio/evento/1159-jacobo
 -christensen
END:VEVENT
END:VCALENDAR
