BEGIN:VCALENDAR
VERSION:2.0
PRODID:-//https://www.lamortella.org///NONSGML kigkonsult.se iCalcreator 2.10.15//
METHOD:PUBLISH
BEGIN:VEVENT
UID:20260420T102546UTC-3473z9IG1L@https://www.lamortella.org/
DTSTAMP:20260420T102546Z
DESCRIPTION:\nProgramma 25 maggio - ore 17:00\nMusiche di Bach\, Schumann\n
 Dimitri Malignan - Pianoforte\n&nbsp\;\nModalità di prenotazione e tariffe
 \n&nbsp\;\n https://www.lamortella.org/musica/eventi-in-archivio/evento/11
 92-dimitri-malignan
DTSTART:20250525T150000Z
DTEND:20250525T161500Z
LOCATION:Sala Recite (Giardini la Mortella\, Via Francesco Calise\, 45\, 80
 077 Ischia NA\, Italia)
SUMMARY:Dimitri Malignan
URL:https://www.lamortella.org/musica/eventi-in-archivio/evento/1192-dimitr
 i-malignan
END:VEVENT
END:VCALENDAR
