BEGIN:VCALENDAR
VERSION:2.0
PRODID:-//https://www.lamortella.org///NONSGML kigkonsult.se iCalcreator 2.10.15//
METHOD:PUBLISH
BEGIN:VEVENT
UID:20260420T102950UTC-9567MJokj9@https://www.lamortella.org/
DTSTAMP:20260420T102950Z
DESCRIPTION:\nProgramma 31 maggio - ore 17:00\nMusiche di Bach\, Brahms\, L
 iszt\, Rachmaninov\nGabriele Laura - Pianoforte\n&nbsp\;\nModalità di pren
 otazione e tariffe\n&nbsp\;\n https://www.lamortella.org/musica/eventi-in-
 archivio/evento/1193-gabriele-laura
DTSTART:20250531T150000Z
DTEND:20250531T161500Z
LOCATION:Sala Recite (Giardini la Mortella\, Via Francesco Calise\, 45\, 80
 077 Ischia NA\, Italia)
SUMMARY:Gabriele Laura
URL:https://www.lamortella.org/musica/eventi-in-archivio/evento/1193-gabrie
 le-laura
END:VEVENT
END:VCALENDAR
