BEGIN:VCALENDAR
VERSION:2.0
PRODID:-//https://www.lamortella.org///NONSGML kigkonsult.se iCalcreator 2.10.15//
METHOD:PUBLISH
BEGIN:VEVENT
UID:20260421T134732UTC-83015DSv1r@https://www.lamortella.org/
DTSTAMP:20260421T134732Z
DESCRIPTION:\nProgramma 8 giugno - ore 17:00\nMusiche di Debussy\, Faurè\, 
 Shostakovich\nAvel Trio - Violino\, v.cello\, pianoforte\n&nbsp\;\nModalit
 à di prenotazione e tariffe\n&nbsp\;\n https://www.lamortella.org/musica/e
 venti-in-archivio/evento/1196-avel-trio
DTSTART:20250608T150000Z
DTEND:20250608T161500Z
LOCATION:Sala Recite (Giardini la Mortella\, Via Francesco Calise\, 45\, 80
 077 Ischia NA\, Italia)
SUMMARY:Avel Trio
URL:https://www.lamortella.org/musica/eventi-in-archivio/evento/1196-avel-t
 rio
END:VEVENT
END:VCALENDAR
