BEGIN:VCALENDAR
VERSION:2.0
PRODID:-//https://www.lamortella.org///NONSGML kigkonsult.se iCalcreator 2.10.15//
METHOD:PUBLISH
BEGIN:VEVENT
UID:20260424T213747UTC-5123wWkMVm@https://www.lamortella.org/
DTSTAMP:20260424T213747Z
DESCRIPTION:Programma 19 aprile - ore 17:00\nMusiche di&nbsp\;Beethoven\, B
 rahms\nTrio S.Lee - T.Mun - Y.Sun- Violino\, v.cello\, pianoforte\n&nbsp\;
  https://www.lamortella.org/musica/eventi-in-archivio/evento/1232-trio-s-l
 ee-t-mun-y-sun
DTSTART:20260419T150000Z
DTEND:20260419T163000Z
LOCATION:Sala Recite (Giardini la Mortella\, Via Francesco Calise\, 45\, 80
 077 Ischia NA\, Italia)
SUMMARY:Trio S.Lee - T.Mun - Y.Sun
URL:https://www.lamortella.org/musica/eventi-in-archivio/evento/1232-trio-s
 -lee-t-mun-y-sun
END:VEVENT
END:VCALENDAR
