BEGIN:VCALENDAR
VERSION:2.0
PRODID:-//https://www.lamortella.org///NONSGML kigkonsult.se iCalcreator 2.10.15//
METHOD:PUBLISH
BEGIN:VEVENT
UID:20260419T135438UTC-2623Lwv1ML@https://www.lamortella.org/
DTSTAMP:20260419T135438Z
DESCRIPTION:Musiche di Bach\, Beethoven\, Mozart\, Chopin https://www.lamor
 tella.org/musica/eventi-in-archivio/evento/205-gesualdo-coggi
DTSTART:20170723T153000Z
DTEND:20170723T170000Z
LOCATION:Sala Recite (Giardini la Mortella\, Via Francesco Calise\, 45\, 80
 077 Ischia NA\, Italia)
SUMMARY:Gesualdo Coggi
URL:https://www.lamortella.org/musica/eventi-in-archivio/evento/205-gesuald
 o-coggi
END:VEVENT
END:VCALENDAR
