BEGIN:VCALENDAR
VERSION:2.0
PRODID:-//https://www.lamortella.org///NONSGML kigkonsult.se iCalcreator 2.10.15//
METHOD:PUBLISH
BEGIN:VEVENT
UID:20260422T091617UTC-3184x1tGoR@https://www.lamortella.org/
DTSTAMP:20260422T091617Z
DESCRIPTION:Musiche di Granados\, Liszt https://www.lamortella.org/musica/e
 venti-in-archivio/evento/708-irene-veneziano
DTSTART:20150531T150000Z
DTEND:20150531T160000Z
LOCATION:Sala Recite (Giardini la Mortella\, Via Francesco Calise\, 45\, 80
 077 Ischia NA\, Italia)
SUMMARY:Irene Veneziano
URL:https://www.lamortella.org/musica/eventi-in-archivio/evento/708-irene-v
 eneziano
END:VEVENT
END:VCALENDAR
