BEGIN:VCALENDAR
VERSION:2.0
PRODID:-//https://www.lamortella.org///NONSGML kigkonsult.se iCalcreator 2.10.15//
METHOD:PUBLISH
BEGIN:VEVENT
UID:20260420T103004UTC-0675OV1DlX@https://www.lamortella.org/
DTSTAMP:20260420T103004Z
DESCRIPTION:Musiche di Chopin\, Liszt\, Busoni https://www.lamortella.org/m
 usica/eventi-in-archivio/evento/720-nicola-losito
DTSTART:20150726T153000Z
DTEND:20150726T163000Z
LOCATION:Sala Recite (Giardini la Mortella\, Via Francesco Calise\, 45\, 80
 077 Ischia NA\, Italia)
SUMMARY:Nicola Losito
URL:https://www.lamortella.org/musica/eventi-in-archivio/evento/720-nicola-
 losito
END:VEVENT
END:VCALENDAR
