BEGIN:VCALENDAR
VERSION:2.0
PRODID:-//https://www.lamortella.org///NONSGML kigkonsult.se iCalcreator 2.10.15//
METHOD:PUBLISH
BEGIN:VEVENT
UID:20260424T092131UTC-6395Spzu6a@https://www.lamortella.org/
DTSTAMP:20260424T092131Z
DESCRIPTION:Direttori - Verónica Urrego / Francis Cummings A. Dvorak - Slav
 onic Dance Op 46 No. 4 H. Berlioz - March to the Scaffold J. Sibelius - An
 dante Festivo A. Piazzolla - Libertango R. Vaughan-Williams - English Folk
  Songs J. Horner - Braveheart P.I. Tchaikovsky - 1812 Overture K. Badelt -
  Pirates of the Caribbean https://www.lamortella.org/musica/eventi-in-arch
 ivio/evento/740-big-noise-symphony-orchestra-di-sistema-scotland-di-pescar
 a
DTSTART:20160707T190000Z
DTEND:20160707T200000Z
LOCATION:Teatro Greco (Giardini la Mortella\, Via Francesco Calise\, 45\, 8
 0077 Ischia NA\, Italia)
SUMMARY:Big Noise Symphony Orchestra di Sistema Scotland” di Pescara
URL:https://www.lamortella.org/musica/eventi-in-archivio/evento/740-big-noi
 se-symphony-orchestra-di-sistema-scotland-di-pescara
END:VEVENT
END:VCALENDAR
