BEGIN:VCALENDAR
VERSION:2.0
PRODID:-//https://www.lamortella.org///NONSGML kigkonsult.se iCalcreator 2.10.15//
METHOD:PUBLISH
BEGIN:VEVENT
UID:20260420T085742UTC-5642UxvjDr@https://www.lamortella.org/
DTSTAMP:20260420T085742Z
DESCRIPTION:\nProgramma sabato 15 giugno 2019 - ore 17:00:\nWalton\, Piazzo
 lla\, Barrios\, Dyens\nFrancesco Scelzo\, chitarra\n https://www.lamortell
 a.org/musica/eventi-in-archivio/evento/906-francesco-scelzo
DTSTART:20190615T150000Z
DTEND:20190615T160000Z
LOCATION:Sala Recite (Giardini la Mortella\, Via Francesco Calise\, 45\, 80
 077 Ischia NA\, Italia)
SUMMARY:Francesco Scelzo
URL:https://www.lamortella.org/musica/eventi-in-archivio/evento/906-frances
 co-scelzo
END:VEVENT
END:VCALENDAR
