BEGIN:VCALENDAR
VERSION:2.0
PRODID:-//https://www.lamortella.org///NONSGML kigkonsult.se iCalcreator 2.10.15//
METHOD:PUBLISH
BEGIN:VEVENT
UID:20260421T122138UTC-4035wKSMle@https://www.lamortella.org/
DTSTAMP:20260421T122138Z
DESCRIPTION:Programma 25 aprile - ore 17:00\nMusiche di&nbsp\;Clementi\, De
 bussy\, Alkan\, Liszt\, Smit\nYoul Sun - Pianoforte\n&nbsp\; https://www.l
 amortella.org/musica/programma-incontri-musicali/evento/1233-youl-sun
DTSTART:20260425T150000Z
DTEND:20260425T163000Z
LOCATION:Sala Recite (Giardini la Mortella\, Via Francesco Calise\, 45\, 80
 077 Ischia NA\, Italia)
SUMMARY:Youl Sun
URL:https://www.lamortella.org/musica/programma-incontri-musicali/evento/12
 33-youl-sun
END:VEVENT
END:VCALENDAR
