BEGIN:VCALENDAR
VERSION:2.0
PRODID:-//https://www.lamortella.org///NONSGML kigkonsult.se iCalcreator 2.10.15//
METHOD:PUBLISH
BEGIN:VEVENT
UID:20260421T134547UTC-9725p6DBpc@https://www.lamortella.org/
DTSTAMP:20260421T134547Z
DESCRIPTION:Programma 26 aprile - ore 17:00\nMusiche di&nbsp\;Liszt\nYoul S
 un - Pianoforte\n&nbsp\; https://www.lamortella.org/musica/programma-incon
 tri-musicali/evento/1234-youl-sun
DTSTART:20260426T150000Z
DTEND:20260426T163000Z
LOCATION:Sala Recite (Giardini la Mortella\, Via Francesco Calise\, 45\, 80
 077 Ischia NA\, Italia)
SUMMARY:Youl Sun
URL:https://www.lamortella.org/musica/programma-incontri-musicali/evento/12
 34-youl-sun
END:VEVENT
END:VCALENDAR
