BEGIN:VCALENDAR
VERSION:2.0
PRODID:-//https://www.lamortella.org///NONSGML kigkonsult.se iCalcreator 2.10.15//
METHOD:PUBLISH
BEGIN:VEVENT
UID:20260421T122138UTC-40325bhhhZ@https://www.lamortella.org/
DTSTAMP:20260421T122138Z
DESCRIPTION:Programma&nbsp\;2 maggio - ore 17:00\nMusiche di&nbsp\;Shostako
 vic\, Beethoven\, Schumann\nGabriel Meloni - Pianoforte\n&nbsp\; https://w
 ww.lamortella.org/musica/programma-incontri-musicali/evento/1235-gabriel-m
 eloni
DTSTART:20260502T150000Z
DTEND:20260502T163000Z
LOCATION:Sala Recite (Giardini la Mortella\, Via Francesco Calise\, 45\, 80
 077 Ischia NA\, Italia)
SUMMARY:Gabriel Meloni
URL:https://www.lamortella.org/musica/programma-incontri-musicali/evento/12
 35-gabriel-meloni
END:VEVENT
END:VCALENDAR
