BEGIN:VCALENDAR
VERSION:2.0
PRODID:-//https://www.lamortella.org///NONSGML kigkonsult.se iCalcreator 2.10.15//
METHOD:PUBLISH
BEGIN:VEVENT
UID:20260425T114641UTC-41675RAwSb@https://www.lamortella.org/
DTSTAMP:20260425T114641Z
DESCRIPTION:Programma&nbsp\;6 giugno - ore 17:00\nMusiche di&nbsp\;Grieg\, 
 Franck\nDuo F. Bonaita - M. Matsiievska - Violino e pianoforte\n&nbsp\; ht
 tps://www.lamortella.org/musica/programma-incontri-musicali/evento/1244-du
 o-f-bonaita-m-matsiievska
DTSTART:20260606T150000Z
DTEND:20260606T163000Z
LOCATION:Sala Recite (Giardini la Mortella\, Via Francesco Calise\, 45\, 80
 077 Ischia NA\, Italia)
SUMMARY:Duo F. Bonaita - M. Matsiievska
URL:https://www.lamortella.org/musica/programma-incontri-musicali/evento/12
 44-duo-f-bonaita-m-matsiievska
END:VEVENT
END:VCALENDAR
