BEGIN:VCALENDAR
VERSION:2.0
PRODID:-//https://www.lamortella.org///NONSGML kigkonsult.se iCalcreator 2.10.15//
METHOD:PUBLISH
BEGIN:VEVENT
UID:20260425T113727UTC-4690KUg7BW@https://www.lamortella.org/
DTSTAMP:20260425T113727Z
DESCRIPTION:Programma 13 giugno - ore 17:00\nMusiche di&nbsp\;Elgar\, Proko
 fiev\, Respighi\, Szymanowski\nDuo L.R. Mariotti - A. Enea - Violino e pia
 noforte\n&nbsp\; https://www.lamortella.org/musica/programma-incontri-musi
 cali/evento/1246-duo-l-r-mariotti-a-enea
DTSTART:20260613T150000Z
DTEND:20260613T163000Z
LOCATION:Sala Recite (Giardini la Mortella\, Via Francesco Calise\, 45\, 80
 077 Ischia NA\, Italia)
SUMMARY:Duo L.R. Mariotti - A. Enea
URL:https://www.lamortella.org/musica/programma-incontri-musicali/evento/12
 46-duo-l-r-mariotti-a-enea
END:VEVENT
END:VCALENDAR
