BEGIN:VCALENDAR
VERSION:2.0
PRODID:-//https://www.lamortella.org///NONSGML kigkonsult.se iCalcreator 2.10.15//
METHOD:PUBLISH
BEGIN:VEVENT
UID:20260420T102328UTC-2582nGlfuz@https://www.lamortella.org/
DTSTAMP:20260420T102328Z
DESCRIPTION:Programma 27 giugno - ore 17:00\nMusiche di&nbsp\;Debussy\, Bou
 langer\, Poulenc\nDuo R. Rotondi - V. Di Rita - Violoncello e pianoforte\n
 &nbsp\; https://www.lamortella.org/musica/programma-incontri-musicali/even
 to/1250-duo-r-rotondi-v-di-rita
DTSTART:20260627T150000Z
DTEND:20260627T163000Z
LOCATION:Sala Recite (Giardini la Mortella\, Via Francesco Calise\, 45\, 80
 077 Ischia NA\, Italia)
SUMMARY:Duo R. Rotondi - V. Di Rita
URL:https://www.lamortella.org/musica/programma-incontri-musicali/evento/12
 50-duo-r-rotondi-v-di-rita
END:VEVENT
END:VCALENDAR
