BEGIN:VCALENDAR
VERSION:2.0
PRODID:-//https://www.lamortella.org///NONSGML kigkonsult.se iCalcreator 2.10.15//
METHOD:PUBLISH
BEGIN:VEVENT
UID:20260421T122107UTC-0283URrFn6@https://www.lamortella.org/
DTSTAMP:20260421T122107Z
DESCRIPTION:\nProgramma 6 otobre 2018 - ore 17:00:\nSOLD OUT\nJ.S. Bach - P
 reludio e Fuga BWV 854F.J. Haydn - Sonata Hob. XVI:34F. Chopin - Etude op.
 10 n.2R.Schumann - Toccata op.7C. Debussy - 4 EtudesJ. Brahms - Variazioni
  su tema di Händel\, Op.24\n https://www.lamortella.org/musica/programma-i
 ncontri-musicali/evento/827-hyein-jeon
DTSTART:20181006T150000Z
DTEND:20181006T160000Z
LOCATION:Sala Recite (Giardini la Mortella\, Via Francesco Calise\, 45\, 80
 077 Ischia NA\, Italia)
SUMMARY:Hyein Jeon
URL:https://www.lamortella.org/musica/programma-incontri-musicali/evento/82
 7-hyein-jeon
END:VEVENT
END:VCALENDAR
